BEGIN:VCALENDAR
VERSION:2.0
PRODID:-//Kentucky Refugee Ministries, Inc. - ECPv6.15.20//NONSGML v1.0//EN
CALSCALE:GREGORIAN
METHOD:PUBLISH
X-WR-CALNAME:Kentucky Refugee Ministries, Inc.
X-ORIGINAL-URL:https://kyrm.org
X-WR-CALDESC:Events for Kentucky Refugee Ministries, Inc.
REFRESH-INTERVAL;VALUE=DURATION:PT1H
X-Robots-Tag:noindex
X-PUBLISHED-TTL:PT1H
BEGIN:VTIMEZONE
TZID:America/Kentucky/Louisville
BEGIN:DAYLIGHT
TZOFFSETFROM:-0500
TZOFFSETTO:-0400
TZNAME:EDT
DTSTART:20240310T070000
END:DAYLIGHT
BEGIN:STANDARD
TZOFFSETFROM:-0400
TZOFFSETTO:-0500
TZNAME:EST
DTSTART:20241103T060000
END:STANDARD
BEGIN:DAYLIGHT
TZOFFSETFROM:-0500
TZOFFSETTO:-0400
TZNAME:EDT
DTSTART:20250309T070000
END:DAYLIGHT
BEGIN:STANDARD
TZOFFSETFROM:-0400
TZOFFSETTO:-0500
TZNAME:EST
DTSTART:20251102T060000
END:STANDARD
BEGIN:DAYLIGHT
TZOFFSETFROM:-0500
TZOFFSETTO:-0400
TZNAME:EDT
DTSTART:20260308T070000
END:DAYLIGHT
BEGIN:STANDARD
TZOFFSETFROM:-0400
TZOFFSETTO:-0500
TZNAME:EST
DTSTART:20261101T060000
END:STANDARD
END:VTIMEZONE
BEGIN:VEVENT
DTSTART;TZID=America/Kentucky/Louisville:20250823T140000
DTEND;TZID=America/Kentucky/Louisville:20250823T153000
DTSTAMP:20260420T053820
CREATED:20250717T161120Z
LAST-MODIFIED:20250825T205954Z
UID:4860-1755957600-1755963000@kyrm.org
SUMMARY:Celebrating Our Neighborhood: The Cuisine of Dem. Rep. of the Congo
DESCRIPTION:Join KRM and Louisville Free Public Libraries (LFPL) for the 2025 installment of our partnership event series\, Celebrating Our Neighborhood. Saturday\, August 23rd\, we explore cuisine and culture! \nPLEASE NOTE: Registration is currently full. Join the waitlist HERE\, and you will be notified by LFPL when a spot opens! \nNow in its third year\, this series showcases the artistic and cultural traditions of refugee and immigrant communities throughout  Louisville at LFPL locations in a diversity of neighborhoods across the city.  \nPast installments have highlighted the arts and culture of Cuba (2023) and Iraq (2024). For this annual series\, artists and professionals from the featured community showcase their artistry\, customs\, skill and knowledge across three different events in July\, August and September.  \nThis year\, Celebrating Our Neighborhood focuses on the arts and culture of Democratic Republic of the Congo (DRC) and will feature members of the Congolese American community. Please see below for details on the two upcoming events in the 2025 series: \nThe Cuisine of DRC\nfeaturing Mado Malumba\nChef/Owner\, Kwetu African Cuisine\nSaturday\, August 23rd\n2:00 – 3:30 PM\nNortheast Regional Library \nThe Music & Arts of DRC\nTBD\nSaturday\, September 27th\n1:00 – 2:30 PM\nSouth Central Regional Library \nPLEASE NOTE:  Celebrating Our Neighborhood events are FREE\, but due to limited space\, we ask that you PLEASE REGISTER to ensure that seating is available. Learn more and register HERE.
URL:https://kyrm.org/event/celebrating-our-neighborhood-the-cuisine-of-dem-rep-of-the-congo/
LOCATION:Northeast Regional Library\, 15 Bellevoir Circle\, Louisville\, KY\, 40223\, United States
CATEGORIES:Arts Event
ATTACH;FMTTYPE=image/png:https://kyrm.org/wp-content/uploads/2025/07/Social-Posts-2025-39.png
END:VEVENT
END:VCALENDAR